BEGIN:VCALENDAR
VERSION:2.0
PRODID:-//Shape Up Us - ECPv6.15.18//NONSGML v1.0//EN
CALSCALE:GREGORIAN
METHOD:PUBLISH
X-WR-CALNAME:Shape Up Us
X-ORIGINAL-URL:https://shapeupus.org
X-WR-CALDESC:Events for Shape Up Us
REFRESH-INTERVAL;VALUE=DURATION:PT1H
X-Robots-Tag:noindex
X-PUBLISHED-TTL:PT1H
BEGIN:VTIMEZONE
TZID:America/Phoenix
BEGIN:STANDARD
TZOFFSETFROM:-0700
TZOFFSETTO:-0700
TZNAME:MST
DTSTART:20080101T000000
END:STANDARD
END:VTIMEZONE
BEGIN:VEVENT
DTSTART;TZID=America/Phoenix:20151205T020000
DTEND;TZID=America/Phoenix:20151205T070000
DTSTAMP:20260422T151038
CREATED:20170216T083613Z
LAST-MODIFIED:20170221T221112Z
UID:826-1449280800-1449298800@shapeupus.org
SUMMARY:Shape Up Kids Expo - December 5\, 2015
DESCRIPTION:COOKING WITH KIDS – Duncan Family Farms\, Grabbagreen and Special Guest Halle Heart’s Chef – Click here to sign up now\, space is limited! \nSpecial Guest SANTA \nThank Shay Vasudeva!\nCertified Nutritional Therapist\nBlack Belt Karate Instructor\nCertified Personal Fitness Trainer
URL:https://shapeupus.org/event/shape-up-kids-expo-december-5-2015/
LOCATION:Halle Heart Children’s Museum\, 2929 S 48th Street\, Tempe\, AZ\, 85282\, United States
CATEGORIES:Events
ATTACH;FMTTYPE=image/jpeg:https://shapeupus.org/wp-content/uploads/2013/05/scottsdale-expo.jpg
END:VEVENT
BEGIN:VEVENT
DTSTART;TZID=America/Phoenix:20150503T050000
DTEND;TZID=America/Phoenix:20150503T090000
DTSTAMP:20260422T151038
CREATED:20170216T092548Z
LAST-MODIFIED:20170221T220949Z
UID:830-1430629200-1430643600@shapeupus.org
SUMMARY:Shape Up Missouri - May 2015
DESCRIPTION:Thank You Kelly Mertens!\nMiss Kelly’s Gym \nPhoto Gallery
URL:https://shapeupus.org/event/shape-up-missouri-may-2015/
LOCATION:Creve Coeur Lake Park\, 13236 Streetcar Drive\, Maryland Heights\, MO\, 63043\, United States
CATEGORIES:Events
ATTACH;FMTTYPE=image/jpeg:https://shapeupus.org/wp-content/uploads/2013/05/pic67.jpg
END:VEVENT
BEGIN:VEVENT
DTSTART;TZID=America/Phoenix:20141201T020000
DTEND;TZID=America/Phoenix:20141201T060000
DTSTAMP:20260422T151038
CREATED:20170217T002927Z
LAST-MODIFIED:20170221T220920Z
UID:834-1417399200-1417413600@shapeupus.org
SUMMARY:Banner Children's Go Kids! Festival - November 2014
DESCRIPTION:9am to 1pm \nAdmission is free. Come on down with your family and friends to enjoy some food\, fitness and lots of fun! Celebrate Cardon Children’s 5th birthday. \nEntertainment • Games • Inflatables • Banner Children’s Health Exhibits Prize Giveaways • Fitness stations Sports Stations Healthy Snacks Bike Rodeo (bring your bike) • Plus much more! \nDownload Flyer \n 
URL:https://shapeupus.org/event/banner-childrens-go-kids-festival-november-2014/
LOCATION:Mesa Community College\, 1833 W. Southern Ave.\, Mesa\, AZ\, 85202\, United States
CATEGORIES:Events
ATTACH;FMTTYPE=image/jpeg:https://shapeupus.org/wp-content/uploads/2014/10/go-kids.jpg
END:VEVENT
BEGIN:VEVENT
DTSTART;TZID=America/Phoenix:20141025T020000
DTEND;TZID=America/Phoenix:20141025T060000
DTSTAMP:20260422T151038
CREATED:20170217T003221Z
LAST-MODIFIED:20170221T220852Z
UID:836-1414202400-1414216800@shapeupus.org
SUMMARY:Chandler Mayor's Day of Play - October 2014
DESCRIPTION:Join US for Chandler Mayor’s Day of Play! We have partnered with the City of Chandler and Chandler Unified School District for this amazing event. Costume Contest\, field games\, nutritional information & demos\, train rides\, inflatables\, fitness challenge\, Bike Land and Rodeo\, sports clinics\, entertainment and so much more! \nWe anticipate 8\,000+ attendees at this one-day event! \nDownload Event Map \n  \n \nTHANK YOU FOR MAKING THIS EVENT A HUGE SUCCESS! \nCity of Chandler – Stephanie Feldaverd and Hermelinda Llams – I so appreciate YOU!\nChandler Unified School District – Steve Hewitt – YOU are the BEST!\nClyde Baker Productions – Clyde YOU are the AMAZING and YOU ROCKED the Stage!\nSafeway Frank Delorio and Reddy Ice -Russ Hayes– THANK YOU! for ALL of the Water and Ice – YOU are the LIFESAVERS!\nABC Embroidery Designs – PHENOMENAL T-Shirts!\nThe CORE Institute\, Summer Janssen\, for being our FANTASTIC t-shirt sponsor! Totally awesome!\nTodd Davis\, The FUN COACH the inflatables were INCREDIBLE just like YOU. I love teaming up with the FUN COACH!\nArizona Parenting Magazine – Thank YOU Kimberly! You are the INCREDIBLE and I love Arizona Parenting Magazine and YOU!\nAZ Green Living Dorrie Morales\, Thanks for YOU!! You are a Blessing!\nPTS Multimedia – You make Shape Up US SOCIAL MEDIA ROCK! Thanks for YOU Stephanie! PHENOMENAL!\nJewish Life Magazine and Cindy Saltzman THANK YOU! You are the BEST!\nNick Nielsen\, Ready Set Jump Rentals thanks so much for the Generators!\nPapa John’s\, Jessi Breitengeld THANK YOU for feeding all of our volunteers! Incredible you are!\nChristina Barth\, Sports Authority – Thank you for always being their for Shape Up US and you incredible donation!\nArizona Diamondbacks – We Love you!\nEVIT\, Emily we loved having you!! Thanks!\nAll of our PHENOMENAL Booths and Activities – CONGRATULATIONS! I had a BLAST because of YOU!\nTo all of the WONDERFUL VOLUNTEERS…OMGosh you never stopped! THANK YOU ALL!\nHailey Schultz\, Michael Valenzuela\, Iris Zhang\, Skye Kopfman\, Connie Sinsabaugh\, Kate Richards\, Phillip (you rocked the stage)\, Anita\, Rubin\, Manual\, Landon\, Ben\, Darin\, Andres\, Alexander\, Edward\, Aquila\, and anyone I might have missed…Thank you ALL! INCREDIBLE!\nThank you Julie Gabos YOU ARE AMAZING and a SIMPLY DYNAMIC! THANK YOU! You are a gift in my life!\nLevi Davis – Thank you for Creating this INCREDIBLE Video levidavis.wix.com/media\nShape Up Arizona at Chandler Mayor’s Day of Play would not be possible without YOU! \nTHANK YOU for MAKING A DIFFERENCE!
URL:https://shapeupus.org/event/chandler-mayors-day-of-play-october-2014/
LOCATION:Tumbleweed Park\, 745 E. Germann Rd.\, Chandler\, AZ\, 85286\, United States
CATEGORIES:Events
ATTACH;FMTTYPE=image/jpeg:https://shapeupus.org/wp-content/uploads/2013/10/IMG_9361.jpg
END:VEVENT
BEGIN:VEVENT
DTSTART;TZID=America/Phoenix:20140927T020000
DTEND;TZID=America/Phoenix:20140927T060000
DTSTAMP:20260422T151038
CREATED:20170217T003611Z
LAST-MODIFIED:20170221T220812Z
UID:839-1411783200-1411797600@shapeupus.org
SUMMARY:Tucson\, Arizona Department of Education Expo - September 2014
DESCRIPTION:FREE EVENT – Please join us while we partner with the Arizona Department of Education to bring health and education together all in one place. We are expecting 3\,000 plus people to attend this event. \nWe will incorporate all of our fun activities for the families! Joining US are Mascots Wilma and Wilber\, U of A Athletics\, FC Tucson Soccer\, Pickleball\, BMX Demos\, Scooter Racing\, Sam at Mama’s Hawaiian Bar-B-Cue will be doing cooking demos\, fabulous food\, entertainment\, tons of fun\, lots of activities\, give-aways and so much more… \nDonload the Flyer Here\nDownload the Vendor Application Here \n \nTHANK YOU FOR MAKING THIS EVENT A HUGE SUCCESS! \n\nArizona Department of Education\nMiranda graves\, Keri Schoeff\, Nerissa Emers\, Jason Gillette\nThe Catalina Foothills Unified School District\nVentana Vista Elementary School\nKim Boling\, Principal\, Josh Silverthorn\, P.E. Teacher and Pat\, my Rock Star\nClyde Baker Productions – YOU are the BEST!!\nSafeway and Reddy Ice – Thank you for ALL of the Water and Ice\nABC Embroidery Designs – FABULOUS T-Shirts\nMama’s Hawaiian Bar-B-Cue – Thank you for all of our Awnings -Thanks Sam!\nBounce Around Tucson for all of our Generators\nPapa Murphy’s for Sharing with the Community and Serving all of our Volunteers\nFC Tucson – So FUN!! Thanks Greg\nU of Athletics and the Mascots- We Love you Wilber and Wilma\nAll of our PHENOMENAL Booths and Activities\nAll of our AMAZING Volunteers (AEPI Fraternity U of A) and Hailey Schultz\nLevi Davis – Thank you for Creating this INCREDIBLE Video levidavis.wix.com/media\n\nFamily Engagement Day would not be possible without YOU! \nTHANK YOU for MAKING A DIFFERENCE!
URL:https://shapeupus.org/event/tucson-arizona-department-of-education-expo-september-2014/
LOCATION:Ventana Vista Elementary\, 6085 N. Kolb Rd.\, Tucson\, AZ\, 85750\, United States
CATEGORIES:Events
ATTACH;FMTTYPE=image/jpeg:https://shapeupus.org/wp-content/uploads/2013/10/IMG_9433.jpg
END:VEVENT
BEGIN:VEVENT
DTSTART;VALUE=DATE:20140601
DTEND;VALUE=DATE:20140628
DTSTAMP:20260422T151038
CREATED:20170217T003814Z
LAST-MODIFIED:20170221T220729Z
UID:842-1401642000-1403888399@shapeupus.org
SUMMARY:Summer Academy Jacobson Elementary - June 2014
DESCRIPTION:Week 1: June 2-6 – Super Hero’s\nCharacters\, Weight Training\, Obstacle Courses \nWeek 2: June 9-13 – Sports\nKarate\, Gymnastics\, Golf\, Basketball\, Volleyball\, Pickleball\, Crossfit\, Tai Chi\, Flag Football\, Cheerleading\, Dance\, Yoga\, Professional Athlete Speakers\, Guest Speakers \nWeek 3: June 16-20 – Pirates\nFitness Treasure Hunt\, Water Games\, Water Slide\, Beach Ball Party \nWeek 4: June 23-27 – Carnival Magic\nLearn to do: Magic\, Juggling\, Balloon Making\, YoYo\, Carnival Games\, Face Painter\, Inflatables\, Shaved Ice \nFor more information please contact:  Laura Katz\, Director of Wellness for After School Programs\n602-686-5217 or Laura@ShapeUpUS.org \nKarate\nDePalma’s Team USA Martial Arts \ndepalmaskarate.com \n    \nPickleball\nUSAPA Pickleball \nExecutive Director Justin Maloof \nYou can learn more about the game at: www.usapa.org\nContact: jmaloof@usapa.org \n  
URL:https://shapeupus.org/event/summer-academy-jacobson-elementary-june-2014/
LOCATION:IL
CATEGORIES:Events
ATTACH;FMTTYPE=image/jpeg:https://shapeupus.org/wp-content/uploads/2013/05/shapeupus-2014.jpg
END:VEVENT
BEGIN:VEVENT
DTSTART;TZID=America/Phoenix:20140329T030000
DTEND;TZID=America/Phoenix:20140330T090000
DTSTAMP:20260422T151038
CREATED:20170217T004327Z
LAST-MODIFIED:20170221T220656Z
UID:846-1396062000-1396170000@shapeupus.org
SUMMARY:Shape Up US Carnival WestWorld - March 2014
DESCRIPTION:Shape Up US CARNIVAL for the entire family! Shape Up US will be hosting a variety of fun activities for the family including\, rock climing wall\, face painting\, carnival rides\, inflatables\, kids interactive sports clinics and competition\, entertainment and so much more. \n\nFox 10 Facebook Post\nAZ Family Article\nScottsdale Health Magazine Facebook Post
URL:https://shapeupus.org/event/shape-up-us-carnival-westworld-march-2014/
LOCATION:WestWorld of Scottsdale\, 16601 N. Pima Road\, Scottsdale\, AZ\, 85260\, United States
CATEGORIES:Events
ATTACH;FMTTYPE=image/jpeg:https://shapeupus.org/wp-content/uploads/2013/10/IMG_9322.jpg
END:VEVENT
BEGIN:VEVENT
DTSTART;TZID=America/Phoenix:20131101T110000
DTEND;TZID=America/Phoenix:20131103T090000
DTSTAMP:20260422T151038
CREATED:20170217T004638Z
LAST-MODIFIED:20170221T220611Z
UID:849-1383303600-1383469200@shapeupus.org
SUMMARY:Scottsdale Super Expo - November 2013
DESCRIPTION:Friday 6 pm – Neon Night Run & Family Festivities\nSaturday 10 am – 5 pm Family Festivities\nSunday 10 am Family Bike Ride with\nBrett Saks Foundation and Family Festivities – 4 pm \n \nClick Here For Our Sponsors\n  \n* November 1st – 6 pm: \n\nNeon Run with all kinds of fun exhibitors\nhot air balloons\, petting zoo\nlots of entertainment\nlights\, inflatables\, train rides\, pony rides\,\nface painters and so much more.\n\n\nGet your family happy and healthy at the Shape Up US Family Zone. From bounce houses to karate lessons and talent shows this show is guaranteed to get your family moving. \nThe Shape Up US Family Zone is one of the shows most active and entertaining sections. This years Family Zone will include: \n\nPetting Zoo\nPony Rides\nHot Air Balloons\nFace Painters\nBalloon Twister\nDesert Express Train (Sunday only)\nDJ and Stage Entertainment\nTons of kids activities\nBounce Houses\nAnd more!\n\nWhat is Shape Up US? A 501c3 nonprofit organization dedicated to providing teachers\, children\, parents\, and their community with educational tools to make informed decisions about their overall wellness with a focus on cardio-vascular health\, physical exercises\, nutrition\, mental and emotional well-being. \nWhy was Shape Up US created? To provide wellness programs for Americans that work. Walk into any American classroom and you’ll see more overweight and obese students than ever in the history of the US. America has been trying to solve this problem with a variety of programs since Everett Coop was surgeon General in the 1980’s. America needs a new model. \nShape Up US Programs align with: \n\nMichelle Obama’s Let’s Move Campaign\nFIT Kids Act\, H.R. 1585\, recently passed the House of Representatives that renews the emphasis on physical education in schools.\n\n\n80’s PARTY\nFriday\, November 1\,  6pm -9pm\n\nUse code: SHAPEUPUS – $30\nRegister NOW and JOIN the FUN! nightnv.com \nDress Up and come Play with US!
URL:https://shapeupus.org/event/scottsdale-super-expo-november-2013/
LOCATION:WestWorld of Scottsdale\, 16601 N. Pima Road\, Scottsdale\, AZ\, 85260\, United States
CATEGORIES:Events
ATTACH;FMTTYPE=image/jpeg:https://shapeupus.org/wp-content/uploads/2013/05/pic82.jpg
END:VEVENT
BEGIN:VEVENT
DTSTART;TZID=America/Phoenix:20131026T020000
DTEND;TZID=America/Phoenix:20131026T060000
DTSTAMP:20260422T151038
CREATED:20170217T004911Z
LAST-MODIFIED:20170221T220531Z
UID:851-1382752800-1382767200@shapeupus.org
SUMMARY:Chandler Mayor's Day of Play - Presented by:  Banner Children's - October 2013
DESCRIPTION:FREE ADMISSION \nClick here for Photos of the Event\n\n9 am – 1pm – Kid’s Bike Ride and Bike Safety Rodeo with Brett Saks Foundation\nBRING YOUR BIKES! Helmet Giveaways!\n9 am – Foam Fun Run: Code: SHAPEUPUS – $25 – www.foamfunrun.com\n\n\nClick here for our sponsors. \n\nClick here for the Flyer\nJoin Us! Sponsorship Information Click Here\nCity of Chandler Website\nGo Gilbert Article\nGood Morning Arizona Article\nFabulous Arizona Article\nAZ Central Article\nAZ Republic Article\nFoothills Focus Article\n\n\nThe Day of Play is a state wide celebration recognizing the importance of fitness\, health and wellness for kids of all ages. Families are provided an opportunity to learn about a healthy lifestyle. \nCome spend the morning at Tumbleweed Park as we promote health\, wellness\, and fitness for kids of all ages. Free activities will get the kids playing and their minds active\, while parents can explore the various booths on health\, wellness\, and fitness. \nDay of Play will feature a variety of fun activities organized by many of the non-profit organizations\, businesses and municipal divisions serving the community. \nFeatured Activities Shape Up US Booth\nWin Raffle Prizes!\nGuest has an opportunity to win raffle prizes at this year’s event. Just print and bring the “bookmark” with you to the Day of Play and turn it in to the Shape Up US booth for your chance to win. Make sure to write your name\, phone number and email address on it so if you’re a winner\, you can be contacted. Good Luck and we will see you out at the Day of Play! \nYouth Costume Contest\nBe the first to win the Day of Play Costume Contest! Come dressed as your favorite sports player\, fruit\, healthy snack\, sports equipment or put your creativity to the test! With the theme “Health\, Wellness and Fitness” the ideas are endless. There are two age groups 0-5 years old and 6-10 years old that will be judged. Registration will begin at 9:00am with only 60 spots available in both age groups. The winner of each age division will receive a prize! \nGeneral Information:\n\nIt’s FREE to participate\nRegister on event day at the Information Booth from 9:00am to 10:30am\nParticipants need to be accompanied by parent/guardian\nParticipants will receive more information on where and when to report once\nregistered for the contest\nParticipants will be photographed and pictures can be used for publication\nRegistration:\n\n– Forms will be available at the Information Booth the day of the event \nOR \n– Print the registration form here and bring the form with you to the Information Booth at the event \nCostume Judging Times:\n\nAges 0-5 – 10:45 am-11:05 am\nAges 6-10 – 11:15 am -11:35 am\n\nJudging Criteria and Rules:\n\nThere will be 3 judges present.\nParticipants will be judged on creativity\, originality and theme appropriateness.\nEach category will be judged on a scale of 1-5 and the average score between the judges will determine the score for each contestant.\nEach age division will go onto the stage in 3 groups of 20 to allow visibility of each contestant.\nThe winner of each age group will be announced immediately following their age group contest.\nContestant must be present in order to claim their prize otherwise the prize will be given to the runner-up.\n\nFoam Fun Run – www.FoamFunRun.com\n \nRun\, Walk\, Crawl\, or laugh your way through our 5k course filled with colorful foam awesomeness! The most important thing is to have fun while getting some exercise. Trust us\, this is the only time that a 30ft slip n slide\, 5 foam stations\, and fun obstacles are considered exercise. The 5k course is a non-competitive event. \nSign up now for a chance to take part in an unforgettable 5k party that helps out a great cause! Proceeds benefitting Shapeupus.org. \nStart Time:\n9am \nCost:\n\n$25 when you use the CODE: SHAPEUPUS\n7 and under run free with a paying adult!\n\nGeneral Race Information:\n\n7 and under run free with a paying adult\nMust sign waiver previous to entry of the race\nAll tickets purchased are nonrefundable\nTickets are transferrable up to a week before the event date\nAdditional information provided during registration\n\nBike Land\nBring your kid’s bikes along to join the Fit Kids Fun Ride and enjoy everything cycling and safety at the Brett Saks Foundation’s Bike Land. Banner Children’s will be providing the first 500 kids with FREE helmets. Visit www.gearupaz.org/bike-land for more information on how to set up your own Fundraising Page for the bike ride to help raise funds for local schools. Some of the funds raised will also go toward bringing bike safety education to the schools and community as well. Here’s how you can participate in raising funds…Read Me! \nRules & Regulations\n\nAlthough it is a kid’s bike ride\, parents and family members who would like to ride alongside their younger children may do so. Please\, no road bikes (professional cycling bikes) because of the type of course we have. Safety First!\nParticipants of the Fit Kid Fun Ride and Bike Safety Rodeo are encouraged to bring their own bikes. However\, a small amount of ‘loaner bikes’ will be available for kids to borrow as they participate.\nThere will be an area for people to park and lock their own bikes\, at their own risk.\nHelmets will be given to the first 500 kids who attend and who (hopefully) participate in the passport system (see below).\nA ‘passport’ system will be in place so that attendees can maximize learning. Attendees will be encouraged to attend set stations where they will have their passports checked off. Once completed and their information is entered onto the passport\, Banner Children’s will collect the passport and issue a helmet. However\, a passport is not required to receive a helmet\, just strongly encouraged.\n\nBike Safety Rodeo\nBike Land will also feature a Bike Safety Rodeo\, where kids can enjoy a skilled-based obstacle course focused on different bike safety tips and practice safe riding in a fun environment. The Bike Safety Rodeo will be hosted by WE-CYCLE-USA. \nActivity List\nThere will be several stations in Bike Land that will teach different aspects of safety\, including an outdoor bike education classroom taught by REI and a self-defense station taught by Kajukenbo Arizona. Other activities include hula hooping\, a bike giveaway\, coloring stations\, and much more! \nTeen Fitness Challenge\nJoin us at the Chandler Mayor’s Day of Play presented by Banner’s Children for the inaugural Teen Fitness Challenge. The Teen Fitness Challenge is a 5 part obstacle course that will be timed for speed! Challenges have been created by the Chandler Fire Department\, Chandler YMCA\, the Tumbleweed Recreation Center\, and more! Prizes will be given out to the top finishers in each of the age category! Good Luck! \nCompetition Time:\n9am to 12pm \nCompetition Age Categories:\n\n12 to 14 year olds – Male and Female\n15 to 17 year olds – Male and Female\n\nAward Presentation:\n12:20pm \n Competition Registration:\n\nPotential competitors will need to register to take the fitness challenge.\nCost: $15 Chandler Residents; $21 Non-residents\nRegistration by clicking the icon. Make sure to use the code for 510YT.173\nPotential competitors can also register in person at the event\n\nPrizes:\nPrizes so far include passes to Stratum Laser Tag and Xtreme Air Jump & Skate with more to come! \nStage Performance – Schedule\nPlayful City Stage\n\n9am-9:20am TBD\n9:30am Mayor Jay Tibshraeny’s Welcome\n9:45am-10:05am Yo Yo Factory\n10:15am-10:35am Desert Star Dance\n10:45am-11:05am Costume Contest – Ages 5 and Below\n11:15am-11:35am Costume Contest – Ages 6 to 10\n11:45am-12:05pm Z-Ultimate Self Defense Studios\n12:15pm-12:45pm Aspire Kids Sports Center\n\nShape Up US Stage\n\n9am-9:30am Saladmaster\n9:30am-10:30am Baker’s School of Music\n10:30am-11:15am The Dance Loft\n11:15am-12pm Style Image Studio Baby Calendar – Sponsored by Old Navy\n12pm-12:30pm Eric James\n12:30pm-1pm Kajukenbo AZ
URL:https://shapeupus.org/event/chandler-mayors-day-of-play-presented-by-banner-childrens-october-2013/
LOCATION:Tumbleweed Park\, 745 E. Germann Rd.\, Chandler\, AZ\, 85286\, United States
CATEGORIES:Events
ATTACH;FMTTYPE=image/jpeg:https://shapeupus.org/wp-content/uploads/2013/05/pic52.jpg
END:VEVENT
BEGIN:VEVENT
DTSTART;TZID=America/Phoenix:20130505T050000
DTEND;TZID=America/Phoenix:20130505T090000
DTSTAMP:20260422T151038
CREATED:20170217T005317Z
LAST-MODIFIED:20170221T220458Z
UID:854-1367730000-1367744400@shapeupus.org
SUMMARY:Shape Up Missouri - May 2013
DESCRIPTION:Ch. 2 News in St. Louis  feature USA Pickleball Association with Greg Massie and Shape Up Missouri with Parkway School District.  Thanks Greg and Ron Ramspott for the fabulous segment! \nEntertainment\, Games\, Prizes\nand Fabulous Free Tastings!
URL:https://shapeupus.org/event/shape-up-missouri-may-2013/
LOCATION:Parkway Central High School\, 369 North Woods Mill Road\, Chesterfield\, MO\, 63017\, United States
CATEGORIES:Events
ATTACH;FMTTYPE=image/jpeg:https://shapeupus.org/wp-content/uploads/2013/05/pic10.jpg
END:VEVENT
BEGIN:VEVENT
DTSTART;TZID=America/Phoenix:20130406T030000
DTEND;TZID=America/Phoenix:20130407T090000
DTSTAMP:20260422T151038
CREATED:20170217T005844Z
LAST-MODIFIED:20170221T220424Z
UID:861-1365217200-1365325200@shapeupus.org
SUMMARY:Scottsdale Super Expo - April 2013
DESCRIPTION:Click here for Flyer and 2 Free Admisssions\nClick Here for Our Sponsors \n \n\nClick here for Map
URL:https://shapeupus.org/event/scottsdale-super-expo-april-2013/
LOCATION:IL
CATEGORIES:Events
ATTACH;FMTTYPE=image/jpeg:https://shapeupus.org/wp-content/uploads/2013/05/pic96.jpg
END:VEVENT
BEGIN:VEVENT
DTSTART;TZID=America/Phoenix:20120218T010000
DTEND;TZID=America/Phoenix:20120218T060000
DTSTAMP:20260422T151038
CREATED:20170217T010439Z
LAST-MODIFIED:20170221T220346Z
UID:863-1329526800-1329544800@shapeupus.org
SUMMARY:Fit City Scottsdale - February 2012
DESCRIPTION:Join Fit City Scottsdale and Shape Up US on this\n5K Run/Walk on Saturday\, February 18\, 2012\,\nat the annual “kick off” health expo! \nCost $20 Pre-Registration\, $25 Day of Event for the 5k Race \nFREE ADMISSION TO THE EVENT \n\nPresenting Sponsor\n\nScottsdale Healthcare’s Fit City Scottsdale is a health promotion consortium bringing affordable fitness\, nutrition\, and general well-being programs and education to our community. Our mission is to promote healthy lifestyle choices. At Fit City Scottsdale\, we know that health solutions are often social as well as medical. We are building a social community centered around health and well-being to help us become the healthiest city in the country\, creating the connections needed to support healthy lifestyles. Connect with us at facebook.com/fitcityscottsdale\, @FitCitySdale on Twitter\, fitcityscottsdale.org\, or call 480-882-6477 to learn more.
URL:https://shapeupus.org/event/fit-city-scottsdale-february-2012/
LOCATION:Scottsdale Community College\, 900 E. Chaparral Rd.\, Scottsdale\, AZ\, 85256\, United States
CATEGORIES:Events
ATTACH;FMTTYPE=image/jpeg:https://shapeupus.org/wp-content/uploads/2013/05/pic78.jpg
END:VEVENT
BEGIN:VEVENT
DTSTART;TZID=America/Phoenix:20110501T050000
DTEND;TZID=America/Phoenix:20110501T090000
DTSTAMP:20260422T151038
CREATED:20170217T010844Z
LAST-MODIFIED:20170221T220311Z
UID:867-1304226000-1304240400@shapeupus.org
SUMMARY:Shape Up Missouri - May 2011
DESCRIPTION:In the News \nShape Up Missouri 5K Fun Run – Sunday\, May 1\, 2011\nDownload the NEW flyer here\nDownload the Sponsor Booklet here \nShape Up US will DONATE $2 of each “TeamRegistration” fee to your companies favorite non-profit organization!
URL:https://shapeupus.org/event/shape-up-missouri-may-2011/
LOCATION:Parkway West High School\, 14653 Clayton Road\, Ballwin\, MO\, 63011\, United States
CATEGORIES:Events
ATTACH;FMTTYPE=image/jpeg:https://shapeupus.org/wp-content/uploads/2013/05/pic20.jpg
END:VEVENT
BEGIN:VEVENT
DTSTART;TZID=America/Phoenix:20100605T050000
DTEND;TZID=America/Phoenix:20100605T080000
DTSTAMP:20260422T151038
CREATED:20170217T005552Z
LAST-MODIFIED:20170221T220222Z
UID:858-1275714000-1275724800@shapeupus.org
SUMMARY:Shape Up New York - June 2010
DESCRIPTION:Highway to Health Festival and Shape Up US\nVolunteer contact highwaytohealth@healthcorps.org.
URL:https://shapeupus.org/event/shape-up-new-york-june-2010/
LOCATION:USTA National Tennis Center\, Flushing Meadows Corona Park\, Flushing\, NY\, 11368\, United States
CATEGORIES:Events
ATTACH;FMTTYPE=image/jpeg:https://shapeupus.org/wp-content/uploads/2013/05/pic39.jpg
END:VEVENT
BEGIN:VEVENT
DTSTART;TZID=America/Phoenix:20100502T050000
DTEND;TZID=America/Phoenix:20100502T090000
DTSTAMP:20260422T151038
CREATED:20170217T033334Z
LAST-MODIFIED:20170221T220141Z
UID:870-1272776400-1272790800@shapeupus.org
SUMMARY:Shape Up Missouri - May 2010
DESCRIPTION:Download the flyer here\nShape Up Missouri Map\nEvent Poster \n\nJyl Steinback (front left) having fun in her home town at Shape Up Missouri.
URL:https://shapeupus.org/event/shape-up-missouri-may-2010/
LOCATION:Parkway North High School\, 12860 Fee Fee Rd.\, Creve Coeur\, MO\, 63146\, United States
CATEGORIES:Events
ATTACH;FMTTYPE=image/jpeg:https://shapeupus.org/wp-content/uploads/2013/05/pic17.jpg
END:VEVENT
BEGIN:VEVENT
DTSTART;VALUE=DATE:20100331
DTEND;VALUE=DATE:20100402
DTSTAMP:20260422T151038
CREATED:20170217T033920Z
LAST-MODIFIED:20170221T220051Z
UID:873-1270054800-1270141199@shapeupus.org
SUMMARY:Shape Up Arizona - April 2010
DESCRIPTION:SPONSOR BOOKLET\nKFNX Thank you for your amazing support of Shape Up Arizona!
URL:https://shapeupus.org/event/shape-up-arizona-april-2010/
LOCATION:IL
CATEGORIES:Events
ATTACH;FMTTYPE=image/jpeg:https://shapeupus.org/wp-content/uploads/2013/05/pic13.jpg
END:VEVENT
BEGIN:VEVENT
DTSTART;TZID=America/Phoenix:20090503T050000
DTEND;TZID=America/Phoenix:20090503T090000
DTSTAMP:20260422T151038
CREATED:20170217T034437Z
LAST-MODIFIED:20170221T220009Z
UID:875-1241326800-1241341200@shapeupus.org
SUMMARY:Shape Up Missouri - May 2009
DESCRIPTION:Take a look at the Shape Up Missouri Flyer. You need to come out and join in the fun on May 3rd. in St\, Louis Missouri.\nPartners for the Event Included: Parkway School District\, Radio Disney\, Wehrenberg Theatres\, SSM Cardinal Glennon Children’s Medical Center\, Washington University Physicians\, Orthopedics\, Smoothie King\, Eric James Live Hip Hop Artist\, Fredbird\, The Rams\, Fire Department and much more.\nA Message from Jyl Steinback\, Shape Up US’s Executive Director: I chose St. Louis as the location for our first Shape Up Missouri because I was born and raised in St. Louis and graduated from Parkway Central. So partnering with Parkway School District was a natural fit. I was one of the School Districts first 50 Hall of Fame candidates. So\, coming back to my home turf was a perfect place for me to help empower the community that empowered me! Our goal was to help children\, families\, schools\, teachers and the community to live a healthier lifestyle. I know that our enthusiasm inspired everyone who attended.
URL:https://shapeupus.org/event/shape-up-missouri-may-2009/
LOCATION:Creve Coeur Lake Memorial Park\, 13236 Streetcar Dr.\, Maryland Heights\, MO\, 63043\, United States
CATEGORIES:Events
ATTACH;FMTTYPE=image/jpeg:https://shapeupus.org/wp-content/uploads/2013/05/pic58.jpg
END:VEVENT
END:VCALENDAR