BEGIN:VCALENDAR
VERSION:2.0
PRODID:-//Shape Up Us - ECPv6.15.18//NONSGML v1.0//EN
CALSCALE:GREGORIAN
METHOD:PUBLISH
X-ORIGINAL-URL:https://shapeupus.org
X-WR-CALDESC:Events for Shape Up Us
REFRESH-INTERVAL;VALUE=DURATION:PT1H
X-Robots-Tag:noindex
X-PUBLISHED-TTL:PT1H
BEGIN:VTIMEZONE
TZID:America/Phoenix
BEGIN:STANDARD
TZOFFSETFROM:-0700
TZOFFSETTO:-0700
TZNAME:MST
DTSTART:20230101T000000
END:STANDARD
END:VTIMEZONE
BEGIN:VEVENT
DTSTART;TZID=America/Phoenix:20240519T030000
DTEND;TZID=America/Phoenix:20240519T080000
DTSTAMP:20260425T174151
CREATED:20231206T201110Z
LAST-MODIFIED:20240312T080257Z
UID:13918-1716087600-1716105600@shapeupus.org
SUMMARY:Glendale\, AZ | 5.19.24
DESCRIPTION:Shape Up Us has partnered with Chicken N Pickle for this exciting event for all ages.  This fun-filled day will also include a Rock Wall\, Inflatables\, Sports Teams\, Face painting\, Balloon Twister\, Fabulous DJ\, Music\, Stage acts\, and Superheroes\, along with our Sponsors and Community business vendor booths that will share awareness\, education\, and action.  Natural Grocers will be providing free water\, fruit\, and Swag Bags.  Marketing will include Harkin’s Theatre’s – over 100 screens\, Green Living Magazine\, AZ Parenting\, Bear Essential News – Social Media Networking: Facebook\, Twitter\, E-Blasts\, Website\, YouTube\, PeachJar (flyers delivered by e-mail directly into the surrounding school’s parents homes)\, Radio\,TV coverage and more. \nSetup: 8:00 am\nFREE Event \n***100% of All Donations will sponsor a teacher or school ~ to receive The Hip Hop Healthy Program for Children™ Curriculum-  \nThe 1st World-Class Online Digital Social Emotional “Whole Child” Wellness Curriculum. K-6th that impacts education\, health and financial wellness. \nWe are “Building A Culture of Health” into our school’s e-learning platform & directly into our homes. \nhttps://youtu.be/afkv2vMWXkQ
URL:https://shapeupus.org/event/glendale-az-5-19-24/
LOCATION:Chicken and Pickle\, 9330 West Hanna Drive\, Glendale\, AZ\, 85305\, United States
CATEGORIES:Events
END:VEVENT
BEGIN:VEVENT
DTSTART;TZID=America/Phoenix:20240519T030000
DTEND;TZID=America/Phoenix:20240519T080000
DTSTAMP:20260425T174151
CREATED:20240430T090702Z
LAST-MODIFIED:20240430T091044Z
UID:14015-1716087600-1716105600@shapeupus.org
SUMMARY:Scottsdale\, AZ | 05.19.24
DESCRIPTION:
URL:https://shapeupus.org/event/scottsdale-az-5-19-24/
LOCATION:Chicken and Pickle\, 9330 West Hanna Drive\, Glendale\, AZ\, 85305\, United States
CATEGORIES:Events
END:VEVENT
END:VCALENDAR