BEGIN:VCALENDAR
VERSION:2.0
PRODID:-//Shape Up Us - ECPv6.15.18//NONSGML v1.0//EN
CALSCALE:GREGORIAN
METHOD:PUBLISH
X-WR-CALNAME:Shape Up Us
X-ORIGINAL-URL:https://shapeupus.org
X-WR-CALDESC:Events for Shape Up Us
REFRESH-INTERVAL;VALUE=DURATION:PT1H
X-Robots-Tag:noindex
X-PUBLISHED-TTL:PT1H
BEGIN:VTIMEZONE
TZID:America/Phoenix
BEGIN:STANDARD
TZOFFSETFROM:-0700
TZOFFSETTO:-0700
TZNAME:MST
DTSTART:20240101T000000
END:STANDARD
END:VTIMEZONE
BEGIN:VEVENT
DTSTART;TZID=America/Phoenix:20251108T090000
DTEND;TZID=America/Phoenix:20251108T150000
DTSTAMP:20260422T095540
CREATED:20241203T102207Z
LAST-MODIFIED:20250924T195620Z
UID:14225-1762592400-1762614000@shapeupus.org
SUMMARY:Shape Up Us 2025 Family Fun Community Event | 11.8.25
DESCRIPTION:Presenting. . . \n\n\n \nWorld’s Largest Pickleball Lessons for Kids and Adults\, 1M Walk and 5M Run Ninja Warrior Course\, Rock Wall Bounce House & Obstacle Course \n\n\n \n \nNovember 8\, 2025McDowell Mountain Ranch 10607 E. Paradise Lane\, Scottsdale\, AZ. 85260 9 am – 3 pm \n\n\n \n(FREE FOR ALL AGES) \n\n\n \n \nWorld’s Largest Pickleball Lesson Register Now \n\n\n \n1K Walk and 5K RunRegister Now \n\n\n \nShape Up Us has partnered with Monster Athletes Juniors\, the McDowell Mountain Ranch Community Association\, and the McDowell Mountain Ranch Pickleball Club to host this exciting event for all ages. \n\n\n \nThis fun-filled day will also include a Ninja Inflatable Obstacle Course\, Rock Climbing Wall\, Bounce House\, Sport Inflatables\, Princesses\, Superheroes\, Mini Golf\, the World’s Largest Pickleball Lesson\, Face painting\, Balloon Twisting\, DJ\, Stage Performances\, Tug of War\, Hula Hoop Contests\, and so much more.
URL:https://shapeupus.org/event/worlds-largest-pickleball-lesson-scottsdale-2025/
LOCATION:McDowell Mountain Ranch Park\, 10607 East Paradise Lane\, Scottsdale\, AZ\, 85260\, United States
CATEGORIES:Events
END:VEVENT
END:VCALENDAR